BEGIN:VCALENDAR
VERSION:2.0
PRODID:-//QRCCRA - ECPv4.8.2//NONSGML v1.0//EN
CALSCALE:GREGORIAN
METHOD:PUBLISH
X-WR-CALNAME:QRCCRA
X-ORIGINAL-URL:http://www.qrccra.org.au
X-WR-CALDESC:Events for QRCCRA
BEGIN:VEVENT
DTSTART;TZID=UTC+10:20240324T090000
DTEND;TZID=UTC+10:20240324T170000
DTSTAMP:20260420T085814
CREATED:20240107T231501Z
LAST-MODIFIED:20240107T231501Z
UID:5563-1711270800-1711299600@www.qrccra.org.au
SUMMARY:Sunday EP Racing
DESCRIPTION:Racing starts 9am \n
URL:http://www.qrccra.org.au/event/sunday-ep-racing-3/
CATEGORIES:EP,Yellow
END:VEVENT
END:VCALENDAR